BEGIN:VCALENDAR
VERSION:2.0
PRODID:-// - ECPv6.15.20//NONSGML v1.0//EN
CALSCALE:GREGORIAN
METHOD:PUBLISH
X-ORIGINAL-URL:https://keeploudounbeautiful.org
X-WR-CALDESC:Events for 
REFRESH-INTERVAL;VALUE=DURATION:PT1H
X-Robots-Tag:noindex
X-PUBLISHED-TTL:PT1H
BEGIN:VTIMEZONE
TZID:America/New_York
BEGIN:DAYLIGHT
TZOFFSETFROM:-0500
TZOFFSETTO:-0400
TZNAME:EDT
DTSTART:20230312T070000
END:DAYLIGHT
BEGIN:STANDARD
TZOFFSETFROM:-0400
TZOFFSETTO:-0500
TZNAME:EST
DTSTART:20231105T060000
END:STANDARD
BEGIN:DAYLIGHT
TZOFFSETFROM:-0500
TZOFFSETTO:-0400
TZNAME:EDT
DTSTART:20240310T070000
END:DAYLIGHT
BEGIN:STANDARD
TZOFFSETFROM:-0400
TZOFFSETTO:-0500
TZNAME:EST
DTSTART:20241103T060000
END:STANDARD
BEGIN:DAYLIGHT
TZOFFSETFROM:-0500
TZOFFSETTO:-0400
TZNAME:EDT
DTSTART:20250309T070000
END:DAYLIGHT
BEGIN:STANDARD
TZOFFSETFROM:-0400
TZOFFSETTO:-0500
TZNAME:EST
DTSTART:20251102T060000
END:STANDARD
END:VTIMEZONE
BEGIN:VEVENT
DTSTART;TZID=America/New_York:20240403T120000
DTEND;TZID=America/New_York:20240423T120000
DTSTAMP:20260421T064608
CREATED:20240318T185501Z
LAST-MODIFIED:20240318T185504Z
UID:35025-1712145600-1713873600@keeploudounbeautiful.org
SUMMARY:Waterford clean up
DESCRIPTION:Join in with the town of Waterford’s cleanup. April 3-23. There will be captains forming crews to work the different roads between those dates.  \n\n\n\nPlease contact Nick Ratcliffe if you would like to participate. 540-882-3348
URL:https://keeploudounbeautiful.org/event/waterford-clean-up/
END:VEVENT
BEGIN:VEVENT
DTSTART;TZID=America/New_York:20240406T090000
DTEND;TZID=America/New_York:20240406T120000
DTSTAMP:20260421T064609
CREATED:20240401T133403Z
LAST-MODIFIED:20240401T133404Z
UID:35058-1712394000-1712404800@keeploudounbeautiful.org
SUMMARY:Sterling Foundation cleanup
DESCRIPTION:Join us on Saturday\, April 6\, for our quarterly community cleanup. Meet at Briar Patch Park on Sterling Blvd. Meet promptly at 8:45am to get orange bags\, safety vests and assignments. Please bring work gloves and invite a neighbor.
URL:https://keeploudounbeautiful.org/event/sterling-foundation-cleanup-2/
END:VEVENT
BEGIN:VEVENT
DTSTART;TZID=America/New_York:20240406T100000
DTEND;TZID=America/New_York:20240406T130000
DTSTAMP:20260421T064609
CREATED:20240312T222301Z
LAST-MODIFIED:20240321T213018Z
UID:34985-1712397600-1712408400@keeploudounbeautiful.org
SUMMARY:Tree Planting #1
DESCRIPTION:All spots are full.Join us for our annual tree plantings hosted by the Goose Creek Assoc. This event is for those who are 8th grade to adults only. No young kids please. Dress in warm attire- suggest pants because you will be on your knees in the dirt. Boots or closed toes shoes only. No need to bring any shovel’s they will be provided. Each event will be capped at 20 volunteers so be sure to include the exact number of people in your group when you sign up. More details will come out closer to event date.  April 6th (rain date; April 7th)10:00 AMDevonwood34866 Welbourne RdMiddleburg\, VA 20117Volunteers needed:  20 
URL:https://keeploudounbeautiful.org/event/tree-planting-1/
END:VEVENT
BEGIN:VEVENT
DTSTART;TZID=America/New_York:20240406T120000
DTEND;TZID=America/New_York:20240406T120000
DTSTAMP:20260421T064609
CREATED:20240315T185026Z
LAST-MODIFIED:20240315T185308Z
UID:35008-1712404800-1712404800@keeploudounbeautiful.org
SUMMARY:Keep Leesburg Beautiful cleanup event
DESCRIPTION:Come and join the Keep “Leesburg” Beautiful campaign beginning on April 6th. Please go to link for details on how you can get involved and do a cleanup.  \n\n\n\n \n\n\n\n \n\n\n\n \n\n\n\nhttps://www.leesburgva.gov/departments/public-works/keep-leesburg-beautiful
URL:https://keeploudounbeautiful.org/event/keep-leesburg-beautiful-cleanup-event/
END:VEVENT
BEGIN:VEVENT
DTSTART;TZID=America/New_York:20240413T090000
DTEND;TZID=America/New_York:20240413T120000
DTSTAMP:20260421T064609
CREATED:20240318T190341Z
LAST-MODIFIED:20240318T190343Z
UID:35027-1712998800-1713009600@keeploudounbeautiful.org
SUMMARY:Potomac station cleanup
DESCRIPTION:Potomac Station is partnering with Keep Loudoun Beautiful for a spring clean-up. Individuals and groups may volunteer to pick up trash on Saturday\, April 13th from 9 a.m. to noon. To participate\, please register online no later than April 6th. \n\n\n\nPotomac Station community invites all citizens\, families\, individuals\, sports teams/organizations\, scouts\, church groups\, and all other individual volunteers to participate in this beneficial effort which will focus on roadside and trail clean-up. Volunteers are encouraged to participate by helping maintain the mission of Keep Loudoun Beautiful:
URL:https://keeploudounbeautiful.org/event/potomac-station-cleanup/
END:VEVENT
BEGIN:VEVENT
DTSTART;TZID=America/New_York:20240413T093000
DTEND;TZID=America/New_York:20240413T120000
DTSTAMP:20260421T064609
CREATED:20240320T005750Z
LAST-MODIFIED:20240320T005751Z
UID:35036-1713000600-1713009600@keeploudounbeautiful.org
SUMMARY:Claude Moore Cleanup
DESCRIPTION:Would you like the chance to help keep the park looking wonderful? Look no further. Join us for the day and lend a helping hand in our continuous effort to keep the park’s trails\, streams\, and fields beautiful and clean. \n\n\n\nFree for all ages. \n\n\n\nActivity Code: 361712-01Individuals and families register online at loudoun.gov/PRCSConnectLarge groups email claudemoore@loudoun.gov. 
URL:https://keeploudounbeautiful.org/event/claude-moore-cleanup/
END:VEVENT
BEGIN:VEVENT
DTSTART;TZID=America/New_York:20240415T190000
DTEND;TZID=America/New_York:20240415T200000
DTSTAMP:20260421T064609
CREATED:20240312T221504Z
LAST-MODIFIED:20240312T221506Z
UID:34983-1713207600-1713211200@keeploudounbeautiful.org
SUMMARY:Board Meeting
DESCRIPTION:Board member meeting by invite only via Zoom.
URL:https://keeploudounbeautiful.org/event/board-meeting-11/
END:VEVENT
BEGIN:VEVENT
DTSTART;TZID=America/New_York:20240420T090000
DTEND;TZID=America/New_York:20240420T130000
DTSTAMP:20260421T064609
CREATED:20240315T184456Z
LAST-MODIFIED:20240315T184458Z
UID:35006-1713603600-1713618000@keeploudounbeautiful.org
SUMMARY:Broad Run Farm Cleanup
DESCRIPTION:We are going to have a neighborhood clean-up on April 20\, 2024. \n\n\n\nWe will meet at the Galilee Church for bags\, grabbers and street assignments between 9:00am and 10:00am. \n\n\n\nRoger Cole of Commonwealth Builders will provide pizza and refreshments at our Pavilion Property at 20075 Youngs Cliff Rd at 12:00 noon. \n\n\n\nNo registration just show up !
URL:https://keeploudounbeautiful.org/event/broad-run-farm-cleanup/
END:VEVENT
BEGIN:VEVENT
DTSTART;TZID=America/New_York:20240420T100000
DTEND;TZID=America/New_York:20240420T130000
DTSTAMP:20260421T064609
CREATED:20240312T222710Z
LAST-MODIFIED:20240330T031628Z
UID:34987-1713607200-1713618000@keeploudounbeautiful.org
SUMMARY:Tree Planting #2
DESCRIPTION:Join us for our annual tree plantings hosted by the Goose Creek Assoc. This event is for those who are 8th grade to adults only. No young kids please. Dress in warm attire- suggest pants because you will be on your knees in the dirt. Boots or closed toes shoes only. No need to bring any shovel’s they will be provided. We suggest you bring your own water bottle. Each event will be capped at 20 volunteers so be sure to include the exact number of people in your group when you sign up. More details will come out closer to event date.  April 20th (rain date; April 21th)10:00 AMDevonwood34866 Welbourne RdMiddleburg\, VA 20117Volunteers needed:  20
URL:https://keeploudounbeautiful.org/event/tree-planting-2-2/
END:VEVENT
BEGIN:VEVENT
DTSTART;TZID=America/New_York:20240420T120000
DTEND;TZID=America/New_York:20240420T120000
DTSTAMP:20260421T064609
CREATED:20240413T002305Z
LAST-MODIFIED:20240413T002307Z
UID:35076-1713614400-1713614400@keeploudounbeautiful.org
SUMMARY:Potomac Watershed cleanup
DESCRIPTION:SAVE THE DATE: April 20\, 2024 \n\n\n\nThe 35th Annual Potomac Watershed Cleanup \n\n\n\nHelp beautify the Village by taking part in this annual cleanup. \n\n\n\nTrash that ends up on the ground gets into our streams and can even find its way all the way to the Potomac. Trash introduces harmful substances into the natural environment. \n\n\n\nAll over the DMV\, communities are banding together to clean up the Watershed. \n\n\n\nHere in the Village\, we have identified three areas that will be our focus in this effort. Some of it is easy walking grade\, other areas will require a higher level of fitness. \n\n\n\nUse this link to sign up and let’s pull together to beautify the Village and our country! \n\n\n\n﻿Potomac Watershed Clean-Up Day | Washington Metropolitan Chapter Community Associations Institute
URL:https://keeploudounbeautiful.org/event/potomac-watershed-cleanup/
END:VEVENT
BEGIN:VEVENT
DTSTART;TZID=America/New_York:20240427T090000
DTEND;TZID=America/New_York:20240427T120000
DTSTAMP:20260421T064609
CREATED:20240414T222657Z
LAST-MODIFIED:20240414T222659Z
UID:35082-1714208400-1714219200@keeploudounbeautiful.org
SUMMARY:Broad Run Farm cleanup #2
DESCRIPTION:We are going to have a neighborhood clean-up on April 27\, 2024. \n\n\n\nWe will meet at the Galilee Church for bags\, grabbers and street assignments between 9:00am and 10:00am. \n\n\n\n \n\n\n\nNo registration just show up !
URL:https://keeploudounbeautiful.org/event/broad-run-farm-cleanup-2/
END:VEVENT
BEGIN:VEVENT
DTSTART;TZID=America/New_York:20240427T100000
DTEND;TZID=America/New_York:20240427T120000
DTSTAMP:20260421T064609
CREATED:20240322T235339Z
LAST-MODIFIED:20240322T235341Z
UID:35054-1714212000-1714219200@keeploudounbeautiful.org
SUMMARY:Evergreen Mill Student cleanup
DESCRIPTION:Evergreen Mills Cleanup: \n\n\n\nWe are once again seeking student volunteers for a Keep Loudoun Beautiful (KLB) cleanup along Evergreen Mills Road in Leesburg. This year’s cleanup will be held on Saturday\, April 27th from 10-12. The activity qualifies for those seeking community service hours. \n\n\n\nWe will meet in the parking lot at Heritage High School near the main entrance for the buses. Below Green button is the signup link for interested students: Please distribute generously!
URL:https://keeploudounbeautiful.org/event/evergreen-mill-student-cleanup/
END:VEVENT
END:VCALENDAR