BEGIN:VCALENDAR
VERSION:2.0
PRODID:-// - ECPv6.15.20//NONSGML v1.0//EN
CALSCALE:GREGORIAN
METHOD:PUBLISH
X-ORIGINAL-URL:https://keeploudounbeautiful.org
X-WR-CALDESC:Events for 
REFRESH-INTERVAL;VALUE=DURATION:PT1H
X-Robots-Tag:noindex
X-PUBLISHED-TTL:PT1H
BEGIN:VTIMEZONE
TZID:America/New_York
BEGIN:DAYLIGHT
TZOFFSETFROM:-0500
TZOFFSETTO:-0400
TZNAME:EDT
DTSTART:20250309T070000
END:DAYLIGHT
BEGIN:STANDARD
TZOFFSETFROM:-0400
TZOFFSETTO:-0500
TZNAME:EST
DTSTART:20251102T060000
END:STANDARD
BEGIN:DAYLIGHT
TZOFFSETFROM:-0500
TZOFFSETTO:-0400
TZNAME:EDT
DTSTART:20260308T070000
END:DAYLIGHT
BEGIN:STANDARD
TZOFFSETFROM:-0400
TZOFFSETTO:-0500
TZNAME:EST
DTSTART:20261101T060000
END:STANDARD
BEGIN:DAYLIGHT
TZOFFSETFROM:-0500
TZOFFSETTO:-0400
TZNAME:EDT
DTSTART:20270314T070000
END:DAYLIGHT
BEGIN:STANDARD
TZOFFSETFROM:-0400
TZOFFSETTO:-0500
TZNAME:EST
DTSTART:20271107T060000
END:STANDARD
END:VTIMEZONE
BEGIN:VEVENT
DTSTART;TZID=America/New_York:20260320T100000
DTEND;TZID=America/New_York:20260320T120000
DTSTAMP:20260421T114004
CREATED:20260121T185734Z
LAST-MODIFIED:20260124T192520Z
UID:37504-1774000800-1774008000@keeploudounbeautiful.org
SUMMARY:Willowsford annual cleanup
DESCRIPTION:Willowsford community in Aldie will host their cleanup.  \n\n\n\nJoin us for our fourth annual Village wide clean-up day\, Friday\, March 20th\, 2025 from 10-12pm! Keeping Willowsford beautiful takes a Village\, participating in this clean-up day is only one way you can make a difference in your community. This is a day LCPS has off school and a great opportunity for students to get additional volunteer hours. \n\n\n\nSign up below for a zone of your choice in each of the four Villages of Willowsford. In your assigned zone\, walk along main roads\, residential streets\, amenity areas\, and trails searching for trash in catchment areas like along fences\, ponds\, tree lines\, and more. As you explore your zone\, please be mindful of private property and do not enter resident yards.  \n\n\n\nAll supplies\, including trash bags\, will be provided at Check-in locations. Click here to view detailed maps of the zones in each village.  \n\n\n\nOnce you sign up\, keep an eye out for emails with further instructions as we get closer to the event. Have questions in the meantime? Email us at info@WillowsfordConservancy.org.  \n\n\n\nSee something\, do something. Pick it up!
URL:https://keeploudounbeautiful.org/event/willowsford-annual-cleanup/
END:VEVENT
END:VCALENDAR