BEGIN:VCALENDAR
VERSION:2.0
PRODID:-// - ECPv6.15.20//NONSGML v1.0//EN
CALSCALE:GREGORIAN
METHOD:PUBLISH
X-ORIGINAL-URL:https://keeploudounbeautiful.org
X-WR-CALDESC:Events for 
REFRESH-INTERVAL;VALUE=DURATION:PT1H
X-Robots-Tag:noindex
X-PUBLISHED-TTL:PT1H
BEGIN:VTIMEZONE
TZID:America/New_York
BEGIN:DAYLIGHT
TZOFFSETFROM:-0500
TZOFFSETTO:-0400
TZNAME:EDT
DTSTART:20230312T070000
END:DAYLIGHT
BEGIN:STANDARD
TZOFFSETFROM:-0400
TZOFFSETTO:-0500
TZNAME:EST
DTSTART:20231105T060000
END:STANDARD
BEGIN:DAYLIGHT
TZOFFSETFROM:-0500
TZOFFSETTO:-0400
TZNAME:EDT
DTSTART:20240310T070000
END:DAYLIGHT
BEGIN:STANDARD
TZOFFSETFROM:-0400
TZOFFSETTO:-0500
TZNAME:EST
DTSTART:20241103T060000
END:STANDARD
BEGIN:DAYLIGHT
TZOFFSETFROM:-0500
TZOFFSETTO:-0400
TZNAME:EDT
DTSTART:20250309T070000
END:DAYLIGHT
BEGIN:STANDARD
TZOFFSETFROM:-0400
TZOFFSETTO:-0500
TZNAME:EST
DTSTART:20251102T060000
END:STANDARD
END:VTIMEZONE
BEGIN:VEVENT
DTSTART;TZID=America/New_York:20241020T123000
DTEND;TZID=America/New_York:20241020T170000
DTSTAMP:20260421T114034
CREATED:20240816T222413Z
LAST-MODIFIED:20240910T194637Z
UID:35182-1729427400-1729443600@keeploudounbeautiful.org
SUMMARY:Trash Bash
DESCRIPTION:Registration NOW OPEN! \n\n\n\nhttps://www.signupgenius.com/go/5080D4DA4A82DA7FB6-51314800-annual#/ \n\n\n\nAnnual KLB Fall Trash Bash clean up around the Cascades area and Sugarland Run floodplain registration coming soon.  \n\n\n\nWhen: Sunday October 20th\, 2024 starting at 12:30 pm. \n\n\n\nWhere: We’ll be meeting at the Quarterpath Trace Community Center\, at 20430 Quarterpath Trace Circle\, Sterling\, which is at the intersection of Algonkian Pkwy and Quarterpath Trace Circle. Restrooms will be available at the Quarterpath Trace Community Center. \n\n\n\nWe require registration for everyone who’d like to participate. We are trying to assign areas beforehand to be more prepared and help things move smoother. \n\n\n\nWe will provide safety vests\, gloves\, bags\, grabbers\, fruit\, granola bars and water. Please remember to bring your own reusable water bottle! In line with our mission\, this will be a “plastic bottle-free zone”. \n\n\n\nSCOUT TROOPS – We have KLB patches for the Scouts! Please indicate in the sign up your troop number\, age of kids\, and the number of kids and adults participating. Please just have the leader fill out 1 registration for whole troop. \n\n\n\nREUSE YOUR T-SHIRTS FROM PRIOR YEARS \n\n\n\nIn an effort to reduce our ecological footprint\, we are not printing new t-shirts. But we will have new/never used t-shirts from past years that you may take. We do encourage you to wear your KLB t-shirt from previous events you have attended. \n\n\n\nHELP US FIND MORE LOCATIONS TO CLEAN: \n\n\n\nIf you have seen litter in the Cascades area (park\, roadway\, school\, anything) that is in need of folks to clean up\, please email rdwoodr123@randallg and report it so we can add it to our list of areas to clean up. \n\n\n\nCOMMUNITY SERVICE HOURS: \n\n\n\nSince the Cascades Trash Bash is a community service event\, it qualifies for community service hours for your school\, scout troop\, or other organization. Just be sure to bring your forms for us to sign.
URL:https://keeploudounbeautiful.org/event/trash-bash/
END:VEVENT
END:VCALENDAR