BEGIN:VCALENDAR
VERSION:2.0
PRODID:-// - ECPv6.15.20//NONSGML v1.0//EN
CALSCALE:GREGORIAN
METHOD:PUBLISH
X-ORIGINAL-URL:https://keeploudounbeautiful.org
X-WR-CALDESC:Events for 
REFRESH-INTERVAL;VALUE=DURATION:PT1H
X-Robots-Tag:noindex
X-PUBLISHED-TTL:PT1H
BEGIN:VTIMEZONE
TZID:America/New_York
BEGIN:DAYLIGHT
TZOFFSETFROM:-0500
TZOFFSETTO:-0400
TZNAME:EDT
DTSTART:20210314T070000
END:DAYLIGHT
BEGIN:STANDARD
TZOFFSETFROM:-0400
TZOFFSETTO:-0500
TZNAME:EST
DTSTART:20211107T060000
END:STANDARD
BEGIN:DAYLIGHT
TZOFFSETFROM:-0500
TZOFFSETTO:-0400
TZNAME:EDT
DTSTART:20220313T070000
END:DAYLIGHT
BEGIN:STANDARD
TZOFFSETFROM:-0400
TZOFFSETTO:-0500
TZNAME:EST
DTSTART:20221106T060000
END:STANDARD
BEGIN:DAYLIGHT
TZOFFSETFROM:-0500
TZOFFSETTO:-0400
TZNAME:EDT
DTSTART:20230312T070000
END:DAYLIGHT
BEGIN:STANDARD
TZOFFSETFROM:-0400
TZOFFSETTO:-0500
TZNAME:EST
DTSTART:20231105T060000
END:STANDARD
END:VTIMEZONE
BEGIN:VEVENT
DTSTART;TZID=America/New_York:20221022T090000
DTEND;TZID=America/New_York:20221022T170000
DTSTAMP:20260423T074606
CREATED:20220908T230338Z
LAST-MODIFIED:20220909T023944Z
UID:33475-1666429200-1666458000@keeploudounbeautiful.org
SUMMARY:The Trash Pick-Up Club of Ashburn "TPC Ashburn"
DESCRIPTION:The 5th Annual Trash Pick-Up Club of Ashburn Trash Pick-Up 1 Mile Walk and 5k Run is on Saturday 10/22/22 at 9am EST in “Old Town” Ashburn\, VA (At the W&OD Parking lot at Milepost 27.5 (20702 Ashburn Rd\, Ashburn VA 20147). \n\n\n\nThis event is free to all. Free T-shirts for the first 100 participants (multiple colors available). Participants will also be provided gloves\, eco-friendly trash bags and trash grabber tools. There are 3 main walking course routes to choose from: The “Green” aka “junior course”\, the “Blue” and the “Yellow”. All walking courses are 1 to 2 miles. The 3+ mile Red course will be run after the walks (likely starting around 10:30am) for anyone who would like to try trash pick-up running aka Plogging. \n\n\n\nCourses will be well marked and route leaders will be available. We are Not picking up along roads. All routes finish under a finish line archway made of old Amazon boxes!! Participant medals made from old Amazon boxes for all who participate presented to you by Chewbacca and Sully from Monsters\, Inc.There will be a costume contest with 3 winners. \n\n\n\nClick here to register:
URL:https://keeploudounbeautiful.org/event/the-trash-pick-up-club-of-ashburn-tpc-ashburn/
LOCATION:TPC Ashburn\, 20702 Ashburn Rd\, Ashburn\, Virginia\, 20147\, United States
END:VEVENT
BEGIN:VEVENT
DTSTART;TZID=America/New_York:20221022T100000
DTEND;TZID=America/New_York:20221022T170000
DTSTAMP:20260423T074606
CREATED:20221015T152721Z
LAST-MODIFIED:20221015T155638Z
UID:34404-1666432800-1666458000@keeploudounbeautiful.org
SUMMARY:Town of Leesburg Cleanup
DESCRIPTION:Pick up supplies at Raflo Park at 10am Oct 22.  \n\n\n\nFind areas around your neighborhood or town that need cleanup and do your own event. Town staff can also suggest cleanup locations and help get permission from property owners\, ex. shopping centers\, to work on their property. Once the cleanup is complete\, send an email to trash@leesburgva.gov with the location of any trash bags and staff from the Department of Public works can come collect them.  \n\n\n\nClick on this link to register and for more details https://www.leesburgva.gov/departments/public-works/keep-leesburg-beautiful
URL:https://keeploudounbeautiful.org/event/town-of-leesburg-cleanup/
END:VEVENT
END:VCALENDAR